BEGIN:VCALENDAR
VERSION:2.0
PRODID:https://www.waal.de/
METHOD:PUBLISH
BEGIN:VEVENT
UID:event-8437@www.waal.de
LOCATION:Deutsches Haus, Waal 
SUMMARY:Waaler Kleidertausch für Frauen 
DESCRIPTION:Waaler Kleidertausch für Frauen&amp;nbsp;Hast du auch Kleidungsstücke im Schrank, die noch gut erhalten sind, aber einfach nicht mehr getragenwerden? Und hast du Lust auf frischen Wind in deinem Kleiderschrank, ohne Geld auszugeben? Dann ist unser Kleidertausch genau das Richtige für dich!Wir laden Frauen jeden Alters herzlich ein, bis zu 10 gut erhaltene Kleidungsstücke (Größe XS bis XXL), Schuhe, Taschen oder Accessoires mitzubringen und nach Lust und Laune gegen „neue“ Lieblingsteile einzutauschen.Ganz unkompliziert: Bringe mit, was du nicht mehr trägst – und nimm mit, was dir gefällt!Wichtig: Bitte bring nur saubere und gut erhaltene Kleidung mit!Es ist keine Anmeldung nötig.Also: Kleiderschrank ausmisten, Freundinnen schnappen und vorbeikommen!&amp;nbsp;
CLASS:PUBLIC
DTSTART;TZID="(GMT+01.00) Amsterdam / Berlin / Bern / Rome / Stockholm / Vienna":20260425T140000
DTEND;TZID="(GMT+01.00) Amsterdam / Berlin / Bern / Rome / Stockholm / Vienna":20260425T160000
DTSTAMP;TZID="(GMT+01.00) Amsterdam / Berlin / Bern / Rome / Stockholm / Vienna":20260420T101611
END:VEVENT
END:VCALENDAR
